BEGIN:VCALENDAR
VERSION:2.0
PRODID:-//La Demeure sans Limites - ECPv6.10.1.1//NONSGML v1.0//EN
CALSCALE:GREGORIAN
METHOD:PUBLISH
X-WR-CALNAME:La Demeure sans Limites
X-ORIGINAL-URL:https://www.larbredeleveil.org/lademeuresanslimites
X-WR-CALDESC:Évènements pour La Demeure sans Limites
REFRESH-INTERVAL;VALUE=DURATION:PT1H
X-Robots-Tag:noindex
X-PUBLISHED-TTL:PT1H
BEGIN:VTIMEZONE
TZID:Europe/Paris
BEGIN:DAYLIGHT
TZOFFSETFROM:+0100
TZOFFSETTO:+0200
TZNAME:CEST
DTSTART:20250330T010000
END:DAYLIGHT
BEGIN:STANDARD
TZOFFSETFROM:+0200
TZOFFSETTO:+0100
TZNAME:CET
DTSTART:20251026T010000
END:STANDARD
END:VTIMEZONE
BEGIN:VEVENT
DTSTART;VALUE=DATE:20250809
DTEND;VALUE=DATE:20250810
DTSTAMP:20260419T143902
CREATED:20250202T151246Z
LAST-MODIFIED:20250202T160003Z
UID:2820-1754697600-1754783999@www.larbredeleveil.org
SUMMARY:Uposatha - Pleine lune - août
DESCRIPTION:Les soirs de Pleine Lune et de Nouvelle Lune\, nous nous asseyons après avoir fait une marche méditative autour du temple. \nC’est une pratique courante dans les temples bouddhistes\, les jours de plein lune et de nouvelle lune sont des moments de recueillement et de reconnaissance de nos erreurs du mois passé. \nVous pouvez aussi vous inscrire sur le site https://www.nousasseoirensemble.org/
URL:https://www.larbredeleveil.org/lademeuresanslimites/le-programme/uposatha-nouvelle-lune-juillet-2/
CATEGORIES:Uposatha
ATTACH;FMTTYPE=image/jpeg:https://www.larbredeleveil.org/lademeuresanslimites/wp-content/uploads/2021/08/p1060606-scaled.jpg
END:VEVENT
END:VCALENDAR