BEGIN:VCALENDAR
VERSION:2.0
PRODID:-//La Demeure sans Limites - ECPv6.10.1.1//NONSGML v1.0//EN
CALSCALE:GREGORIAN
METHOD:PUBLISH
X-WR-CALNAME:La Demeure sans Limites
X-ORIGINAL-URL:https://www.larbredeleveil.org/lademeuresanslimites
X-WR-CALDESC:Évènements pour La Demeure sans Limites
REFRESH-INTERVAL;VALUE=DURATION:PT1H
X-Robots-Tag:noindex
X-PUBLISHED-TTL:PT1H
BEGIN:VTIMEZONE
TZID:Europe/Paris
BEGIN:DAYLIGHT
TZOFFSETFROM:+0100
TZOFFSETTO:+0200
TZNAME:CEST
DTSTART:20230326T010000
END:DAYLIGHT
BEGIN:STANDARD
TZOFFSETFROM:+0200
TZOFFSETTO:+0100
TZNAME:CET
DTSTART:20231029T010000
END:STANDARD
END:VTIMEZONE
BEGIN:VEVENT
DTSTART;TZID=Europe/Paris:20231028T170000
DTEND;TZID=Europe/Paris:20231101T140000
DTSTAMP:20260420T135048
CREATED:20230824T132338Z
LAST-MODIFIED:20230825T172606Z
UID:3192-1698512400-1698847200@www.larbredeleveil.org
SUMMARY:Les rituels au temple et les rituels dans notre quotidien
DESCRIPTION:Jôkei Sensei propose une retraite sur le thème de : “Rituels et pratique laïque” \nLe samedi 28 octobre est un jour de pleine lune\, UPOSATHA.\nLe zazen du soir\, nous offrirons de l’encens\, puis nous lirons un texte avant d’entrer dans le silence de la méditation. \nUn temps pour regarder nos actions du mois\, un temps aussi pour réaliser tout ce que nous avons reçu et remercier le cœur léger et rempli de gratitude.
URL:https://www.larbredeleveil.org/lademeuresanslimites/le-programme/retraite-du-3-au-7-novembre-genzo-e/
LOCATION:La demeure sans limites\, Riou la Selle\, Saint-Agrève\, 07320
CATEGORIES:Retraite
ATTACH;FMTTYPE=image/png:https://www.larbredeleveil.org/lademeuresanslimites/wp-content/uploads/2023/08/winter-jizo-1.png
END:VEVENT
BEGIN:VEVENT
DTSTART;TZID=Europe/Paris:20231106T153000
DTEND;TZID=Europe/Paris:20231106T163000
DTSTAMP:20260420T135048
CREATED:20230723T164129Z
LAST-MODIFIED:20230723T164129Z
UID:3590-1699284600-1699288200@www.larbredeleveil.org
SUMMARY:Zazen de 15h30 suivi d'une lecture commentée
DESCRIPTION:Les trois premiers lundi de chaque mois\, nous vous proposons de vous joindre à nous pour un temps de méditation (15h30 – 16h00) suivi d’une lecture partagée à partir d’un passage d’un livre du Dharma (16h00 – 16h30). \nVous pouvez y participer en présentiel à la Demeure sans Limites ou par visio en cliquant sur ce lien : https://meet.jit.si/lecturepartag%C3%A9eDsL\n \n  \n 
URL:https://www.larbredeleveil.org/lademeuresanslimites/le-programme/zazen-de-15h30-suivi-dune-lecture-commentee-16/
CATEGORIES:Retraite
ATTACH;FMTTYPE=image/jpeg:https://www.larbredeleveil.org/lademeuresanslimites/wp-content/uploads/2021/12/53-scaled.jpg
END:VEVENT
BEGIN:VEVENT
DTSTART;TZID=Europe/Paris:20231110T140000
DTEND;TZID=Europe/Paris:20231112T160000
DTSTAMP:20260420T135048
CREATED:20230824T090302Z
LAST-MODIFIED:20230825T163233Z
UID:3135-1699624800-1699804800@www.larbredeleveil.org
SUMMARY:Voie du Zen et Tradition Chrétienne
DESCRIPTION:A l’initiative de Marie Demaugé-Bost\, présidente de l’association culturelle MUSUBI\, nous vous proposons une retraite à l’Abbaye de Pradines (42) \nCes journées se dérouleront dans un cadre paisible et chaleureux.\n \nDurant cette retraite\, il vous sera proposé :\nDe la méditation zen\, de la calligraphie\, une cérémonie du thé “informelle”\, des partages sur les différents aspects de la voie spirituelle avec des Sœurs de Pradines et Jôkei Sensei\, abbesse de la Demeure sans Limites\, qui auront à cœur de vous faire connaître leur différents modes de vies dans leur tradition respective. Vous pourrez poser des questions\, faire part de vos réflexions ou vos commentaires. Ce seront des moments d’échanges dans une atmosphère conviviale et bienfaisante.\n \nPour tout renseignement ou inscription vous pouvez nous joindre par mail à partir de ce site ou bien à cette adresse mail : asomusubi@gmail.com \n 
URL:https://www.larbredeleveil.org/lademeuresanslimites/le-programme/voie-du-zen-et-tradition-chretienne/
CATEGORIES:Retraite
ATTACH;FMTTYPE=image/jpeg:https://www.larbredeleveil.org/lademeuresanslimites/wp-content/uploads/2022/04/17-au-21-novembre.jpg
END:VEVENT
BEGIN:VEVENT
DTSTART;TZID=Europe/Paris:20231113T153000
DTEND;TZID=Europe/Paris:20231113T163000
DTSTAMP:20260420T135048
CREATED:20230723T164223Z
LAST-MODIFIED:20230723T164223Z
UID:3592-1699889400-1699893000@www.larbredeleveil.org
SUMMARY:Zazen de 15h30 suivi d'une lecture commentée
DESCRIPTION:Les trois premiers lundi de chaque mois\, nous vous proposons de vous joindre à nous pour un temps de méditation (15h30 – 16h00) suivi d’une lecture partagée à partir d’un passage d’un livre du Dharma (16h00 – 16h30). \nVous pouvez y participer en présentiel à la Demeure sans Limites ou par visio en cliquant sur ce lien : https://meet.jit.si/lecturepartag%C3%A9eDsL\n \n  \n 
URL:https://www.larbredeleveil.org/lademeuresanslimites/le-programme/zazen-de-15h30-suivi-dune-lecture-commentee-17/
CATEGORIES:Retraite
ATTACH;FMTTYPE=image/jpeg:https://www.larbredeleveil.org/lademeuresanslimites/wp-content/uploads/2021/12/53-scaled.jpg
END:VEVENT
BEGIN:VEVENT
DTSTART;TZID=Europe/Paris:20231117T170000
DTEND;TZID=Europe/Paris:20231119T140000
DTSTAMP:20260420T135048
CREATED:20230824T081855Z
LAST-MODIFIED:20230828T130630Z
UID:3631-1700240400-1700402400@www.larbredeleveil.org
SUMMARY:Mise au repos du potager
DESCRIPTION:Durant ces deux jours\, nous préparerons le jardin potager pour l’hiver. \nCucurbitacées\nsous les frimas de novembre\nchapeau de sorcière. \nJardin potager\nil remet un peu d’ordre\ndans sa vie. \nSans oublier les temps de zazen\, les repas dans les bols et des enseignements.
URL:https://www.larbredeleveil.org/lademeuresanslimites/le-programme/mise-au-repos-du-potager/
LOCATION:La demeure sans limites\, Riou la Selle\, Saint-Agrève\, 07320
CATEGORIES:Retraite
ATTACH;FMTTYPE=image/jpeg:https://www.larbredeleveil.org/lademeuresanslimites/wp-content/uploads/2020/03/img-20191001-114918-scaled.jpg
END:VEVENT
BEGIN:VEVENT
DTSTART;TZID=Europe/Paris:20231120T153000
DTEND;TZID=Europe/Paris:20231120T163000
DTSTAMP:20260420T135048
CREATED:20230723T164324Z
LAST-MODIFIED:20230723T164324Z
UID:3594-1700494200-1700497800@www.larbredeleveil.org
SUMMARY:Zazen de 15h30 suivi d'une lecture commentée
DESCRIPTION:Les trois premiers lundi de chaque mois\, nous vous proposons de vous joindre à nous pour un temps de méditation (15h30 – 16h00) suivi d’une lecture partagée à partir d’un passage d’un livre du Dharma (16h00 – 16h30). \nVous pouvez y participer en présentiel à la Demeure sans Limites ou par visio en cliquant sur ce lien : https://meet.jit.si/lecturepartag%C3%A9eDsL\n \n  \n 
URL:https://www.larbredeleveil.org/lademeuresanslimites/le-programme/zazen-de-15h30-suivi-dune-lecture-commentee-18/
CATEGORIES:Retraite
ATTACH;FMTTYPE=image/jpeg:https://www.larbredeleveil.org/lademeuresanslimites/wp-content/uploads/2021/12/53-scaled.jpg
END:VEVENT
BEGIN:VEVENT
DTSTART;TZID=Europe/Paris:20231121T170000
DTEND;TZID=Europe/Paris:20231130T090000
DTSTAMP:20260420T135048
CREATED:20220805T092539Z
LAST-MODIFIED:20230828T135922Z
UID:3186-1700586000-1701334800@www.larbredeleveil.org
SUMMARY:Fermeture du 22 au 30 novembre
DESCRIPTION:Le temple de la Demeure sans Limites est fermé du 23 au 31 octobre.\n \nÀ bientôt !
URL:https://www.larbredeleveil.org/lademeuresanslimites/le-programme/fermeture-du-18-au-31-octobre/
LOCATION:La demeure sans limites\, Riou la Selle\, Saint-Agrève\, 07320
CATEGORIES:Retraite
ATTACH;FMTTYPE=image/jpeg:https://www.larbredeleveil.org/lademeuresanslimites/wp-content/uploads/2021/11/macha-7-scaled.jpg
END:VEVENT
BEGIN:VEVENT
DTSTART;VALUE=DATE:20231127
DTEND;VALUE=DATE:20231128
DTSTAMP:20260420T135048
CREATED:20230723T154222Z
LAST-MODIFIED:20230723T154222Z
UID:3562-1701043200-1701129599@www.larbredeleveil.org
SUMMARY:Uposatha - Pleine lune - novembre
DESCRIPTION:Les soirs de Pleine Lune et de Nouvelle Lune\, nous nous asseyons après avoir fait une marche méditative autour du temple. \nC’est une pratique courante dans les temples bouddhistes\, les jours de plein lune et de nouvelle lune sont des moments de recueillement et de reconnaissance de nos erreurs du mois passé. \nVous pouvez aussi vous inscrire sur le site https://www.nousasseoirensemble.org/
URL:https://www.larbredeleveil.org/lademeuresanslimites/le-programme/uposatha-pleine-lune-novembre-4/
CATEGORIES:Uposatha
ATTACH;FMTTYPE=image/jpeg:https://www.larbredeleveil.org/lademeuresanslimites/wp-content/uploads/2020/03/enso1-1.jpg
END:VEVENT
END:VCALENDAR