BEGIN:VCALENDAR
VERSION:2.0
PRODID:-//La Demeure sans Limites - ECPv6.10.1.1//NONSGML v1.0//EN
CALSCALE:GREGORIAN
METHOD:PUBLISH
X-WR-CALNAME:La Demeure sans Limites
X-ORIGINAL-URL:https://www.larbredeleveil.org/lademeuresanslimites
X-WR-CALDESC:Évènements pour La Demeure sans Limites
REFRESH-INTERVAL;VALUE=DURATION:PT1H
X-Robots-Tag:noindex
X-PUBLISHED-TTL:PT1H
BEGIN:VTIMEZONE
TZID:Europe/Paris
BEGIN:DAYLIGHT
TZOFFSETFROM:+0100
TZOFFSETTO:+0200
TZNAME:CEST
DTSTART:20240331T010000
END:DAYLIGHT
BEGIN:STANDARD
TZOFFSETFROM:+0200
TZOFFSETTO:+0100
TZNAME:CET
DTSTART:20241027T010000
END:STANDARD
END:VTIMEZONE
BEGIN:VEVENT
DTSTART;TZID=Europe/Paris:20240304T153000
DTEND;TZID=Europe/Paris:20240304T163000
DTSTAMP:20260420T135528
CREATED:20240227T135831Z
LAST-MODIFIED:20240227T135831Z
UID:3734-1709566200-1709569800@www.larbredeleveil.org
SUMMARY:Zazen de 15h30 suivi d'une lecture commentée
DESCRIPTION:Les trois premiers lundi de chaque mois\, nous vous proposons de vous joindre à nous pour un temps de méditation (15h30 – 16h00) suivi d’une lecture partagée à partir d’un passage d’un livre du Dharma (16h00 – 16h30). \nVous pouvez y participer en présentiel à la Demeure sans Limites ou par visio en cliquant sur ce lien : https://meet.jit.si/lecturepartag%C3%A9eDsL\n \n  \n 
URL:https://www.larbredeleveil.org/lademeuresanslimites/le-programme/zazen-de-15h30-suivi-dune-lecture-commentee-22/
CATEGORIES:Retraite
ATTACH;FMTTYPE=image/jpeg:https://www.larbredeleveil.org/lademeuresanslimites/wp-content/uploads/2021/12/53-scaled.jpg
END:VEVENT
BEGIN:VEVENT
DTSTART;VALUE=DATE:20240310
DTEND;VALUE=DATE:20240311
DTSTAMP:20260420T135528
CREATED:20240227T141939Z
LAST-MODIFIED:20240227T141758Z
UID:3761-1710028800-1710115199@www.larbredeleveil.org
SUMMARY:Uposatha - Nouvelle Lune en mars
DESCRIPTION:Les soirs de Pleine Lune et de Nouvelle Lune\, nous nous asseyons après avoir fait une marche méditative autour du temple. \nC’est une pratique courante dans les temples bouddhistes\, les jours de plein lune et de nouvelle lune sont des moments de recueillement et de reconnaissance de nos erreurs du mois passé. \nVous pouvez aussi vous inscrire sur le site https://www.nousasseoirensemble.org/
URL:https://www.larbredeleveil.org/lademeuresanslimites/le-programme/uposatha-nouvelle-lune-decembre-5/
CATEGORIES:Uposatha
ATTACH;FMTTYPE=image/jpeg:https://www.larbredeleveil.org/lademeuresanslimites/wp-content/uploads/2020/03/enso1-1.jpg
END:VEVENT
BEGIN:VEVENT
DTSTART;TZID=Europe/Paris:20240311T090000
DTEND;TZID=Europe/Paris:20240311T120000
DTSTAMP:20260420T135528
CREATED:20240301T090050Z
LAST-MODIFIED:20240502T182408Z
UID:3798-1710147600-1710158400@www.larbredeleveil.org
SUMMARY:Journée de gratitude dediée à Moriyama Roshi
DESCRIPTION:La journée du 11 mars est dédiée à Moriyama Roshi\, Maître de Jôshin Sensei et fondateur de la Demeure sans Limites. \nNous débuterons par zazen à 9h suivie d’une cérémonie de gratitude. \nA la Demeure sans Limites ou par visio. : https://meet.jit.si/EtudiantRakusuavecJokeiSensei
URL:https://www.larbredeleveil.org/lademeuresanslimites/le-programme/journee-de-gratitude-dediee-a-moriyama-roshi/
CATEGORIES:Jardin
ATTACH;FMTTYPE=image/jpeg:https://www.larbredeleveil.org/lademeuresanslimites/wp-content/uploads/2021/02/moriyamadaigyo1.jpg
END:VEVENT
BEGIN:VEVENT
DTSTART;TZID=Europe/Paris:20240311T153000
DTEND;TZID=Europe/Paris:20240311T163000
DTSTAMP:20260420T135528
CREATED:20240227T140033Z
LAST-MODIFIED:20240227T140033Z
UID:3737-1710171000-1710174600@www.larbredeleveil.org
SUMMARY:Zazen de 15h30 suivi d'une lecture commentée
DESCRIPTION:Les trois premiers lundi de chaque mois\, nous vous proposons de vous joindre à nous pour un temps de méditation (15h30 – 16h00) suivi d’une lecture partagée à partir d’un passage d’un livre du Dharma (16h00 – 16h30). \nVous pouvez y participer en présentiel à la Demeure sans Limites ou par visio en cliquant sur ce lien : https://meet.jit.si/lecturepartag%C3%A9eDsL\n \n  \n 
URL:https://www.larbredeleveil.org/lademeuresanslimites/le-programme/zazen-de-15h30-suivi-dune-lecture-commentee-23/
CATEGORIES:Retraite
ATTACH;FMTTYPE=image/jpeg:https://www.larbredeleveil.org/lademeuresanslimites/wp-content/uploads/2021/12/53-scaled.jpg
END:VEVENT
BEGIN:VEVENT
DTSTART;TZID=Europe/Paris:20240318T153000
DTEND;TZID=Europe/Paris:20240318T163000
DTSTAMP:20260420T135528
CREATED:20240227T140216Z
LAST-MODIFIED:20240227T140216Z
UID:3739-1710775800-1710779400@www.larbredeleveil.org
SUMMARY:Zazen de 15h30 suivi d'une lecture commentée
DESCRIPTION:Les trois premiers lundi de chaque mois\, nous vous proposons de vous joindre à nous pour un temps de méditation (15h30 – 16h00) suivi d’une lecture partagée à partir d’un passage d’un livre du Dharma (16h00 – 16h30). \nVous pouvez y participer en présentiel à la Demeure sans Limites ou par visio en cliquant sur ce lien : https://meet.jit.si/lecturepartag%C3%A9eDsL\n \n  \n 
URL:https://www.larbredeleveil.org/lademeuresanslimites/le-programme/zazen-de-15h30-suivi-dune-lecture-commentee-24/
CATEGORIES:Retraite
ATTACH;FMTTYPE=image/jpeg:https://www.larbredeleveil.org/lademeuresanslimites/wp-content/uploads/2021/12/53-scaled.jpg
END:VEVENT
BEGIN:VEVENT
DTSTART;TZID=Europe/Paris:20240321T000000
DTEND;TZID=Europe/Paris:20240321T233000
DTSTAMP:20260420T135528
CREATED:20230207T103914Z
LAST-MODIFIED:20240227T153355Z
UID:3190-1710979200-1711063800@www.larbredeleveil.org
SUMMARY:Réouverture de la Demeure sans Limites le 21 mars
DESCRIPTION:Réouverture de la Demeure sans Limites le 21 mars 2024\n \nJôkei Sensei vous accueillera durant la saison printemps-été 2024. \nNous vous proposons en plus de la vie quotidienne des temples\, des retraites à thème\, des ateliers\, et comme souvent à cette période de l’année “Le temple en marche” 3 jours de ballades dans le Haut-Vivarais avec retour au temple tous les après-midi. \nDu 10 au 17 juillet\, plusieurs enseignants dans la tradition Sôtô Zen donneront des lectures du Dharma. \nEnfin\, autour du 15 août\, il y aura la fête de O’Bon\, comme chaque année. Un temps de recueillement et d’hommage pour ceux qui nous ont quittés. \nEt bien sûr\, beaucoup de silence mais aussi des moments de partage autour d’un thé. \n  \n 
URL:https://www.larbredeleveil.org/lademeuresanslimites/le-programme/fermeture-du-2-janvier-au-4-mars-2023/
LOCATION:La demeure sans limites\, Riou la Selle\, Saint-Agrève\, 07320
CATEGORIES:Retraite
ATTACH;FMTTYPE=image/jpeg:https://www.larbredeleveil.org/lademeuresanslimites/wp-content/uploads/2023/02/pivoine-et-bougie.jpg
END:VEVENT
BEGIN:VEVENT
DTSTART;VALUE=DATE:20240325
DTEND;VALUE=DATE:20240326
DTSTAMP:20260420T135528
CREATED:20240227T144538Z
LAST-MODIFIED:20240227T144538Z
UID:3786-1711324800-1711411199@www.larbredeleveil.org
SUMMARY:Uposatha - Pleine lune - mars
DESCRIPTION:Les soirs de Pleine Lune et de Nouvelle Lune\, nous nous asseyons après avoir fait une marche méditative autour du temple. \nC’est une pratique courante dans les temples bouddhistes\, les jours de plein lune et de nouvelle lune sont des moments de recueillement et de reconnaissance de nos erreurs du mois passé. \nVous pouvez aussi vous inscrire sur le site https://www.nousasseoirensemble.org/
URL:https://www.larbredeleveil.org/lademeuresanslimites/le-programme/uposatha-pleine-lune-mars-4/
CATEGORIES:Uposatha
ATTACH;FMTTYPE=image/jpeg:https://www.larbredeleveil.org/lademeuresanslimites/wp-content/uploads/2020/03/enso1-1.jpg
END:VEVENT
BEGIN:VEVENT
DTSTART;TZID=Europe/Paris:20240329T170000
DTEND;TZID=Europe/Paris:20240402T140000
DTSTAMP:20260420T135528
CREATED:20240227T160804Z
LAST-MODIFIED:20240227T160628Z
UID:3805-1711731600-1712066400@www.larbredeleveil.org
SUMMARY:Retraite du vendredi 29 mars au mardi 2 avril
DESCRIPTION:Retraite de Pâques\n \nEnseignements de Jôkei Sensei : “Pacifier l’esprit. Le voleur est dans la maison.”\n \nDes temps de zazen\, des enseignements\, de l’étude. Et aussi des promenades et partages autour d’un thé. \n\nAllons dehors \nLà\, la douce lune printanière \nSa lumière nous couvre.\nMatsuyama Teitoku
URL:https://www.larbredeleveil.org/lademeuresanslimites/le-programme/retraite-du-vendredi-29-mars-au-mardi-2-avril/
LOCATION:La demeure sans limites\, Riou la Selle\, Saint-Agrève\, 07320
CATEGORIES:Retraite
ATTACH;FMTTYPE=image/jpeg:https://www.larbredeleveil.org/lademeuresanslimites/wp-content/uploads/2022/08/ete2022.jpg
END:VEVENT
END:VCALENDAR