BEGIN:VCALENDAR
VERSION:2.0
PRODID:-//La Demeure sans Limites - ECPv6.10.1.1//NONSGML v1.0//EN
CALSCALE:GREGORIAN
METHOD:PUBLISH
X-WR-CALNAME:La Demeure sans Limites
X-ORIGINAL-URL:https://www.larbredeleveil.org/lademeuresanslimites
X-WR-CALDESC:Évènements pour La Demeure sans Limites
REFRESH-INTERVAL;VALUE=DURATION:PT1H
X-Robots-Tag:noindex
X-PUBLISHED-TTL:PT1H
BEGIN:VTIMEZONE
TZID:Europe/Paris
BEGIN:DAYLIGHT
TZOFFSETFROM:+0100
TZOFFSETTO:+0200
TZNAME:CEST
DTSTART:20250330T010000
END:DAYLIGHT
BEGIN:STANDARD
TZOFFSETFROM:+0200
TZOFFSETTO:+0100
TZNAME:CET
DTSTART:20251026T010000
END:STANDARD
END:VTIMEZONE
BEGIN:VEVENT
DTSTART;VALUE=DATE:20250922
DTEND;VALUE=DATE:20251003
DTSTAMP:20260419T155225
CREATED:20250805T113810Z
LAST-MODIFIED:20250805T113810Z
UID:4305-1758499200-1759449599@www.larbredeleveil.org
SUMMARY:Fermeture du 22 Septembre au 2 Octobre 2025
DESCRIPTION:Le temple de la Demeure sans Limites est fermé du 22 Septembre au 2 Octobre 2025\n \nPlus d’informations dans les actualités.
URL:https://www.larbredeleveil.org/lademeuresanslimites/le-programme/fermeture22septembre/
LOCATION:La demeure sans limites\, Riou la Selle\, Saint-Agrève\, 07320
CATEGORIES:Retraite
ATTACH;FMTTYPE=image/jpeg:https://www.larbredeleveil.org/lademeuresanslimites/wp-content/uploads/2021/04/printemps2021-2.jpg
END:VEVENT
BEGIN:VEVENT
DTSTART;TZID=Europe/Paris:20251005T090000
DTEND;TZID=Europe/Paris:20251005T160000
DTSTAMP:20260419T155225
CREATED:20250903T183419Z
LAST-MODIFIED:20250903T183419Z
UID:4346-1759654800-1759680000@www.larbredeleveil.org
SUMMARY:Journée dédiée à Bodhidharma
DESCRIPTION:Journée commémorative dédiée à Bodhidharma\, le 1er patriarche en Chine dans la tradition Zen. \nCette journée sera consacrée à zazen – la copie* du Sutra du Cœur de la Grande Sagesse – repas pris de façon formelle dans les bols – échange avec Jôkei Sensei. \n* Pratique traditionnelle dans les temples au Japon\, une fois par mois\, les personnes vont au temple pour copier le Sutra du Cœur de la Grande Sagesse.\nCette forme de pratique à travers l’écriture est un don assez méconnu en Occident.\nJe l’ai toujours vue pratiquée à la Demeure sans Limites.
URL:https://www.larbredeleveil.org/lademeuresanslimites/le-programme/journee-dediee-a-bodhidharma/
CATEGORIES:Retraite
ATTACH;FMTTYPE=image/jpeg:https://www.larbredeleveil.org/lademeuresanslimites/wp-content/uploads/2019/03/bodaidaruma.jpg
END:VEVENT
BEGIN:VEVENT
DTSTART;TZID=Europe/Paris:20251006T153000
DTEND;TZID=Europe/Paris:20251006T163000
DTSTAMP:20260419T155225
CREATED:20250806T093343Z
LAST-MODIFIED:20250806T093343Z
UID:4322-1759764600-1759768200@www.larbredeleveil.org
SUMMARY:Zazen de 15h30 suivi d'une lecture commentée
DESCRIPTION:Les lundi après-midi\, nous vous proposons un temps de méditation (15h30 – 16h00) suivi d’une lecture partagée à partir d’un passage d’un livre du Dharma\, durant environ 30mn.\n \nVous pouvez y participer en présentiel à la Demeure sans Limites ou par visio en cliquant sur ce lien : https://meet.jit.si/EtudiantsRakusuavecJokeiSensei \n 
URL:https://www.larbredeleveil.org/lademeuresanslimites/le-programme/zazen-de-15h30-suivi-dune-lecture-commentee-43/
CATEGORIES:Retraite
ATTACH;FMTTYPE=image/jpeg:https://www.larbredeleveil.org/lademeuresanslimites/wp-content/uploads/2019/03/betsuin-2.jpg
END:VEVENT
BEGIN:VEVENT
DTSTART;VALUE=DATE:20251007
DTEND;VALUE=DATE:20251008
DTSTAMP:20260419T155225
CREATED:20250303T130547Z
LAST-MODIFIED:20250723T185727Z
UID:4235-1759795200-1759881599@www.larbredeleveil.org
SUMMARY:Uposatha - Pleine Lune - Octobre
DESCRIPTION:Les soirs de Pleine Lune et de Nouvelle Lune\, nous nous asseyons après avoir fait une marche méditative autour du temple. \nC’est une pratique courante dans les temples bouddhistes\, les jours de plein lune et de nouvelle lune sont des moments de recueillement et de reconnaissance de nos erreurs du mois passé. \nVous pouvez aussi vous inscrire sur le site https://www.nousasseoirensemble.org/
URL:https://www.larbredeleveil.org/lademeuresanslimites/le-programme/uposatha-pleine-lune-octobre-7/
CATEGORIES:Uposatha
ATTACH;FMTTYPE=image/jpeg:https://www.larbredeleveil.org/lademeuresanslimites/wp-content/uploads/2021/12/moon-g0bd5c4300-1920.jpg
END:VEVENT
BEGIN:VEVENT
DTSTART;TZID=Europe/Paris:20251010T140000
DTEND;TZID=Europe/Paris:20251012T140000
DTSTAMP:20260419T155225
CREATED:20250902T171926Z
LAST-MODIFIED:20250903T182341Z
UID:4341-1760104800-1760277600@www.larbredeleveil.org
SUMMARY:Séminaire annuel de l'école Sôtô en Europe (à la Gendronnière)
DESCRIPTION:  \n\nSEMINAIRE : Samedi 11 octobre 2025\n\n— 10h/11h30 : Rev. Reiho HAASH : abbé de Shoun-ji (Japon) et assistant du Sôdô Kotai-ji (Japon)\n“Les règles anciennes et contemporaines de la pratique monastique” \n— 14h30/16h00 — Rev. Sôhô Kakita : abbé de Konsai-ji (Japon) et Directeur du bureau européen de l’école Sôtô\n“Les déplacements détaillés du Doshi pendant le Tendoku Daihannya” \n— 16h30/18h00 — Questions – réponses \n\nSEMINAIRE : Dimanche 12 octobre 2025\n\n— 9h30/10h00 : Rev. Zenki Nishimura : Hômyo-in (Japon) – Secrétaire du Centre International du Bouddhisme Zen Sôtô.\n“Le rôle du Centre International du Bouddhisme Zen Sôtô et introduction aux événements pour le SDGs” \n— 10h30/12h00 : Questions – réponses \n 
URL:https://www.larbredeleveil.org/lademeuresanslimites/le-programme/seminaire-annuel-de-lecole-soto-en-europe-a-la-gendronniere/
LOCATION:Rennes
CATEGORIES:Retraite
ATTACH;FMTTYPE=image/jpeg:https://www.larbredeleveil.org/lademeuresanslimites/wp-content/uploads/2024/08/illustration-illumination-du-bouddha.jpg
END:VEVENT
BEGIN:VEVENT
DTSTART;TZID=Europe/Paris:20251013T153000
DTEND;TZID=Europe/Paris:20251013T163000
DTSTAMP:20260419T155225
CREATED:20250806T093452Z
LAST-MODIFIED:20250806T093452Z
UID:4324-1760369400-1760373000@www.larbredeleveil.org
SUMMARY:Zazen de 15h30 suivi d'une lecture commentée
DESCRIPTION:Les lundi après-midi\, nous vous proposons un temps de méditation (15h30 – 16h00) suivi d’une lecture partagée à partir d’un passage d’un livre du Dharma\, durant environ 30mn.\n \nVous pouvez y participer en présentiel à la Demeure sans Limites ou par visio en cliquant sur ce lien : https://meet.jit.si/EtudiantsRakusuavecJokeiSensei \n 
URL:https://www.larbredeleveil.org/lademeuresanslimites/le-programme/zazen-de-15h30-suivi-dune-lecture-commentee-44/
CATEGORIES:Retraite
ATTACH;FMTTYPE=image/jpeg:https://www.larbredeleveil.org/lademeuresanslimites/wp-content/uploads/2019/03/betsuin-2.jpg
END:VEVENT
BEGIN:VEVENT
DTSTART;TZID=Europe/Paris:20251020T153000
DTEND;TZID=Europe/Paris:20251020T163000
DTSTAMP:20260419T155225
CREATED:20250806T093555Z
LAST-MODIFIED:20250806T093555Z
UID:4326-1760974200-1760977800@www.larbredeleveil.org
SUMMARY:Zazen de 15h30 suivi d'une lecture commentée
DESCRIPTION:Les lundi après-midi\, nous vous proposons un temps de méditation (15h30 – 16h00) suivi d’une lecture partagée à partir d’un passage d’un livre du Dharma\, durant environ 30mn.\n \nVous pouvez y participer en présentiel à la Demeure sans Limites ou par visio en cliquant sur ce lien : https://meet.jit.si/EtudiantsRakusuavecJokeiSensei \n 
URL:https://www.larbredeleveil.org/lademeuresanslimites/le-programme/zazen-de-15h30-suivi-dune-lecture-commentee-45/
CATEGORIES:Retraite
ATTACH;FMTTYPE=image/jpeg:https://www.larbredeleveil.org/lademeuresanslimites/wp-content/uploads/2019/03/betsuin-2.jpg
END:VEVENT
BEGIN:VEVENT
DTSTART;VALUE=DATE:20251021
DTEND;VALUE=DATE:20251022
DTSTAMP:20260419T155225
CREATED:20250723T190033Z
LAST-MODIFIED:20250723T190033Z
UID:4282-1761004800-1761091199@www.larbredeleveil.org
SUMMARY:Uposatha - Nouvelle Lune - Octobre
DESCRIPTION:Les soirs de Pleine Lune et de Nouvelle Lune\, nous nous asseyons après avoir fait une marche méditative autour du temple. \nC’est une pratique courante dans les temples bouddhistes\, les jours de plein lune et de nouvelle lune sont des moments de recueillement et de reconnaissance de nos erreurs du mois passé. \nVous pouvez aussi vous inscrire sur le site https://www.nousasseoirensemble.org/
URL:https://www.larbredeleveil.org/lademeuresanslimites/le-programme/uposatha-nouvelle-lune-octobre-5/
CATEGORIES:Uposatha
ATTACH;FMTTYPE=image/jpeg:https://www.larbredeleveil.org/lademeuresanslimites/wp-content/uploads/2021/12/moon-g0bd5c4300-1920.jpg
END:VEVENT
BEGIN:VEVENT
DTSTART;VALUE=DATE:20251023
DTEND;VALUE=DATE:20251031
DTSTAMP:20260419T155225
CREATED:20250805T114134Z
LAST-MODIFIED:20250805T114134Z
UID:4307-1761177600-1761868799@www.larbredeleveil.org
SUMMARY:Fermeture du 23 Octobre au 30 Octobre 2025
DESCRIPTION:Le temple de la Demeure sans Limites est fermé du 23 Octobre au 30 Octobre 2025\n \nPlus d’informations dans les actualités.
URL:https://www.larbredeleveil.org/lademeuresanslimites/le-programme/fermeture-du23octobre/
LOCATION:La demeure sans limites\, Riou la Selle\, Saint-Agrève\, 07320
CATEGORIES:Retraite
ATTACH;FMTTYPE=image/jpeg:https://www.larbredeleveil.org/lademeuresanslimites/wp-content/uploads/2021/04/printemps2021-2.jpg
END:VEVENT
BEGIN:VEVENT
DTSTART;TZID=Europe/Paris:20251024T200000
DTEND;TZID=Europe/Paris:20251026T140000
DTSTAMP:20260419T155225
CREATED:20250723T072330Z
LAST-MODIFIED:20250725T055237Z
UID:4270-1761336000-1761487200@www.larbredeleveil.org
SUMMARY:Conférence + Sesshin Rennes - L’écologie spirituelle et poétique au service du vivant
DESCRIPTION:CONFERENCE et weekend de pratique à RENNES organisée par le centre culturel Bouddhique de Rennes : “L’écologie Spirituelle et poétique au service du vivant” \n\nCONFERENCE : Vendredi 24 octobre 2025 — 20h/22h — Grande salle\nJournées de Zazen – Session — Pratique intensive de méditation Zen\n\nSamedi 25 octobre 2025 — 8h/18h30 — Grande salle \nDimanche 26 octobre 2025 — 8h/14h — Grande salle \n— Inscription et information  |  auprès du Dojo Zen Sôtô de Rennes\n— Contact  |  06 13 23 62 38  |  dojozenrennes@gmail.com \nToutes les informations et inscriptions se font auprès du centre culturel Bouddhique de Rennes : – https://www.ccbrennes.fr/evenement/lecologie-spirituelle-et-poetique-au-service-du-vivant/ \n 
URL:https://www.larbredeleveil.org/lademeuresanslimites/le-programme/rennes2025/
LOCATION:Rennes
CATEGORIES:Retraite
ATTACH;FMTTYPE=image/jpeg:https://www.larbredeleveil.org/lademeuresanslimites/wp-content/uploads/2025/07/ccbr-ecologie-spirituelle-et-poetique-scaled-1.jpg
END:VEVENT
BEGIN:VEVENT
DTSTART;TZID=Europe/Paris:20251031T170000
DTEND;TZID=Europe/Paris:20251102T140000
DTSTAMP:20260419T155225
CREATED:20250903T183945Z
LAST-MODIFIED:20251005T091507Z
UID:4345-1761930000-1762092000@www.larbredeleveil.org
SUMMARY:“Les vœux altruistes” Retraite de début d'hiver avec Jôkei Sensei
DESCRIPTION:Thème des enseignements :\n« Don\, parole aimante\, action bénéfique et équanimité ». \nle cerf mange\net fait tomber\nles fleurs de lespédèzes\nIssa \n 
URL:https://www.larbredeleveil.org/lademeuresanslimites/le-programme/retraite-de-debut-dhiver-avec-jokei-sensei/
CATEGORIES:Retraite
ATTACH;FMTTYPE=image/png:https://www.larbredeleveil.org/lademeuresanslimites/wp-content/uploads/2023/08/winter-jizo-1.png
END:VEVENT
END:VCALENDAR